BEGIN:VCALENDAR
VERSION:2.0
PRODID:-//www.oxonraces.com//oxonraces//EN
METHOD:PUBLISH
BEGIN:VEVENT
UID:2026-10-25-maidenhead@www.oxonraces.com
DESCRIPTION:details=http://www.oxonraces.com/#2026-10-25-maidenhead\, length=half marathon\, cd=?\, eods=?\, results=?
LOCATION:SL6 8RB (Maidenhead)
SUMMARY:Maidenhead Half Marathon\, cd=?\, eods=?
DTSTART;VALUE=DATE:20261025
DTEND;VALUE=DATE:20261025
DTSTAMP:20260419T073958Z
URL:http://www.oxonraces.com/#2026-10-25-maidenhead
END:VEVENT
END:VCALENDAR