BEGIN:VCALENDAR
VERSION:2.0
PRODID:-//www.oxonraces.com//oxonraces//EN
METHOD:PUBLISH
BEGIN:VEVENT
UID:2026-10-25-rugby-half@www.oxonraces.com
DESCRIPTION:details=http://www.oxonraces.com/#2026-10-25-rugby-half\, length=half marathon\, cd=?\, eods=?\, results=?
LOCATION:CV21 3UB (Rugby)
SUMMARY:Rugby Half Marathon\, cd=?\, eods=?
DTSTART;VALUE=DATE:20261025
DTEND;VALUE=DATE:20261025
DTSTAMP:20260419T080412Z
URL:http://www.oxonraces.com/#2026-10-25-rugby-half
END:VEVENT
END:VCALENDAR